BEGIN:VCALENDAR
VERSION:2.0
PRODID:-//ExpressionEngine Easy iCalendar plugin//NONSGML v2.0.1//EN
X-WR-TIMEZONE:America/Chicago
X-WR-CALNAME:Upcoming Auctions
BEGIN:VEVENT
UID:143175
DTSTAMP:20250711T120000
DTSTART:20250711T120000
DTEND:20250720T170000
SUMMARY:Fairway Sports Vehicles - Golf Cart Parts & Liquidation Onli
 ne Only Auction
LOCATION:1220 N Robertson Rd\, Salado\, TX 76571\, US
DESCRIPTION:Online Auction at Fairway Sports Vehicles in Salado\, Texas! 
 We're clearing out all remaining inventory — golf cart par
 ts\, tires\, accessories\, chargers\, office equipment\, and more
 ! Bid from the comfort of your home and score amazing deals 
 before everything is gone. Don’t miss out — this online 
 auction won’t last long! If you wish to preview the items\,
  please give us a call at 254-718-5120 to schedule an appoin
 tment!
URL:https://www.centraltexasauctionservices.com/auctions/detail/
 bw143175
SEQUENCE:1
END:VEVENT
END:VCALENDAR