BEGIN:VCALENDAR
VERSION:2.0
PRODID:-//ExpressionEngine Easy iCalendar plugin//NONSGML v2.0.1//EN
X-WR-TIMEZONE:America/Chicago
X-WR-CALNAME:Upcoming Auctions
BEGIN:VEVENT
UID:155485
DTSTAMP:20261207T093000
DTSTART:20261207T093000
DTEND:20261212T093000
SUMMARY:December 12\, 2026 â€“ Equipment & Auto Consignment AuctionÂ 
 - RING 2
LOCATION:208 N IH 35 Service Rd\, Belton\, TX 76513\, US
DESCRIPTION:This Auction will include: Cars\, Trucks\, Vans\, SUVâ€™s\, ATVâ
 €™s\, Trailers\, Motorhomes and Camper Trailers\, Utility and C
 argo Trailers\, Lawn Mowers\, Tractors and Equipment\, Skid Ste
 ers and Excavators\, 20â€² & 40â€² Conex Containers\, and MORE
 !
URL:https://www.centraltexasauctionservices.com/auctions/detail/
 bw155485
SEQUENCE:1
END:VEVENT
END:VCALENDAR